BEGIN:VCALENDAR
VERSION:2.0
PRODID:-//Forum SBK Bonn - ECPv6.15.20//NONSGML v1.0//EN
CALSCALE:GREGORIAN
METHOD:PUBLISH
X-WR-CALNAME:Forum SBK Bonn
X-ORIGINAL-URL:https://forum-sbk.de
X-WR-CALDESC:Veranstaltungen für Forum SBK Bonn
REFRESH-INTERVAL;VALUE=DURATION:PT1H
X-Robots-Tag:noindex
X-PUBLISHED-TTL:PT1H
BEGIN:VTIMEZONE
TZID:Europe/Berlin
BEGIN:DAYLIGHT
TZOFFSETFROM:+0100
TZOFFSETTO:+0200
TZNAME:CEST
DTSTART:20230326T010000
END:DAYLIGHT
BEGIN:STANDARD
TZOFFSETFROM:+0200
TZOFFSETTO:+0100
TZNAME:CET
DTSTART:20231029T010000
END:STANDARD
BEGIN:DAYLIGHT
TZOFFSETFROM:+0100
TZOFFSETTO:+0200
TZNAME:CEST
DTSTART:20240331T010000
END:DAYLIGHT
BEGIN:STANDARD
TZOFFSETFROM:+0200
TZOFFSETTO:+0100
TZNAME:CET
DTSTART:20241027T010000
END:STANDARD
BEGIN:DAYLIGHT
TZOFFSETFROM:+0100
TZOFFSETTO:+0200
TZNAME:CEST
DTSTART:20250330T010000
END:DAYLIGHT
BEGIN:STANDARD
TZOFFSETFROM:+0200
TZOFFSETTO:+0100
TZNAME:CET
DTSTART:20251026T010000
END:STANDARD
END:VTIMEZONE
BEGIN:VEVENT
DTSTART;TZID=Europe/Berlin:20241113T190000
DTEND;TZID=Europe/Berlin:20241113T203000
DTSTAMP:20260425T192717
CREATED:20241107T162337Z
LAST-MODIFIED:20241107T162351Z
UID:1298-1731524400-1731529800@forum-sbk.de
SUMMARY:Die wasserbewusste Stadt der Zukunft gestalten - 13. November 2024 von 19:00 - 20:30 Uhr
DESCRIPTION:Am 13.11.2024 diskutieren wir mit Dr. Lisa Broß und Dr. Britta Holbeck\, wie wir Wasser in die Stadtentwicklung integrieren können. \nKlimawandel und Urbanisierung stellen unsere Städte vor große Herausforderungen. Um zukunftsfähig zu bleiben\, müssen wir Wasser von Beginn an mitdenken. Das Regenwasser bietet dabei großes Potenzial – nicht nur als Ressource\, sondern auch als ästhetisches Gestaltungselement. Es kann spürbar zur Verbesserung der Lebensqualität in unseren Städten beitragen. \nErfahren Sie von unseren Expertinnen\, was es bedeutet\, Bonn als „Schwammstadt“ zu gestalten. Diskutieren Sie mit\, wie wir den Umgang mit Wasser in der Stadtentwicklung aktiv verändern können. \nLassen Sie sich inspirieren und bringen Sie sich ein! \nDr. Lisa Broß weiß (fast) alles über Wasser als Schlüssel zur Klimaanpassung. Sie steht als Sprecherin der Geschäftsführung der Deutschen Vereinigung für Wasserwirtschaft\, Abwasser und Abfall e. V. an der Spitze des unabhängigen Verbandes\, der sich für eine nachhaltige Wasserwirtschaft einsetzt und Politik und Verwaltungen berät. \nDr. Britta Holbeck ist im Amt für Umwelt und Stadtgrün der Stadt Bonn für Umweltvorsorge und -planung zuständig und hat das Konzept zur Schwammstadt Bonn mitentwickelt. Sie kann erklären\, was eine Schwammstadt Bonn ist und wie sich die Stadt mit ihren Grundstücken und ihrer Planung\, aber auch private Eigentümer dazu beitragen können. \nModeration: Ines Knye\, Vorstandsvorsitzende BDA Bonn-Rhein-Sieg \nAnmeldung unter: info@bda-bonn.de \nOrt\n Forum Stadtbaukultur \nBudapester Straße 7\n53111 Bonn
URL:https://forum-sbk.de/event/wasserbewusste-stadt-der-zukunft/
LOCATION:Pavillon Baukultur\, Budapester Straße 7\, 53111 Bonn\, Budapester Str. 7\, Bonn\, Germany
CATEGORIES:Vortrag und Gespräch
ATTACH;FMTTYPE=image/jpeg:https://forum-sbk.de/wp-content/uploads/2024/11/wasser.jpg
END:VEVENT
BEGIN:VEVENT
DTSTART;TZID=Europe/Berlin:20241119T180000
DTEND;TZID=Europe/Berlin:20241119T200000
DTSTAMP:20260425T192717
CREATED:20241114T174810Z
LAST-MODIFIED:20241114T174810Z
UID:1319-1732039200-1732046400@forum-sbk.de
SUMMARY:Neues Quartier Bundesviertel – Nach 18 Jahren geht es weiter! Vortrag und Diskussion mit Verena Brehm und Kerim Abulzahab
DESCRIPTION:Nach 18 Jahren Stillstand soll es nun endlich weitergehen: Das ehemalige Landesbehördenhaus ist in der Rahmenplanung Bundesviertel als ein Schlüsselprojekt definiert. Das Gebäude der Bonner Architekten Ernst van Dorp und Kurt Kleefisch aus dem Jahr 1975 soll dabei erhalten bleiben. \nWie kann zwischen Autobahnauffahrt\, Bundesbahn und Bundesstraße ein lebendiges Stadtquartier entstehen? \nFrau Prof. Verena Brehm wird das Projekt „Neues Quartier Bundesviertel“ vorstellen und Herr Kerim Abulzahab wird erläutern\, welche Ideen die Stadt Bonn für eine zügige Umsetzung hat. \nVortrag: Prof. Dr.-Ing. Architektin Verena Brehm\, Gründungspartnerin von CITYFÖRSTER architecture + urbanism\, Hannover \nDiskussion: Verena Brehm & Kerim Abulzahab\, Amt für Wirtschaftsförderung Bundesstadt Bonn\, Abteilungsleiter Liegenschaften \nModeration: Ralph Schweitzer\, Vorstand BDA Bonn-Rhein-Sieg \nTermin: Dienstag\, den 19.11.2024 um 18:00 Uhr  \nOrt: Hörsaal 1\, Institut für Geodäsie und Geoinformation\, Rheinische Friedrich-Wilhelms-Universität Bonn\, Nußallee 1\, 53115 Bonn  \nKommen Sie einfach vorbei\, eine Anmeldung ist nicht erforderlich!
URL:https://forum-sbk.de/event/neues-quartier-bundesviertel/
LOCATION:Hörsaal 1\, Institut für Geodäsie und Geoinformation\, Nußallee 1\, Bonn\, Germany
CATEGORIES:Vortrag und Gespräch
ATTACH;FMTTYPE=image/jpeg:https://forum-sbk.de/wp-content/uploads/2024/11/image002.jpg
END:VEVENT
BEGIN:VEVENT
DTSTART;TZID=Europe/Berlin:20241128T173000
DTEND;TZID=Europe/Berlin:20241128T190000
DTSTAMP:20260425T192717
CREATED:20241031T105739Z
LAST-MODIFIED:20241031T110750Z
UID:1285-1732815000-1732820400@forum-sbk.de
SUMMARY:Feindliche Architektur? Wie Architektur und Stadtgestaltung wohnungslose Menschen beeinträchtigt oder unterstützt.
DESCRIPTION:Ein Rundgang durch die Bonner Innenstadt mit dem Verein für Gefährdetenhilfe. \n\n\nWelche Möglichkeiten bietet der (halb-)öffentliche Raum für Menschen\, die den ganzen Tag (und die Nacht) auf ihn angewiesen sind? Wo ist er (absichtlich oder aus Unwissenheit) abweisend und wo einladend gestaltet? Wie können mögliche Nutzungskonflikte verschiedener Menschen bei der Gestaltung berücksichtigt werden? \nAus Diskussionen in verschiedenen Veranstaltungen entstand die Idee\, die Situation von wohnungslosen Menschen in Bonn näher in den Blick zu nehmen und zu fragen\, wie unsere Kultur des Bauens und Stadtgestaltens beschaffen sein müsste\, um eher hilfreich als feindlich zu sein. \nNach einem ca. einstündigen Spaziergang zu verschiedenen Orten in der Innenstadt mit Sebastian Jendrek\, Streetworker des VfG\, haben wir im Pavillon des Forum Stadt Bau Kultur Zeit für einen Austausch zu Eindrücken und Ideen. \nDie Veranstaltung ist kostenlos. Dabei sind Spenden für den VfG nicht unerwünscht 😉 \nBitte melden Sie sich an. Die Anzahl der Teilnehmenden ist begrenzt.
URL:https://forum-sbk.de/event/feindliche-architektur/
LOCATION:Start und Ende des Rundgangs: Pavillon Baukultur\, Budapester Str. 7\, Bonn
CATEGORIES:Spaziergang und Austausch
ATTACH;FMTTYPE=image/jpeg:https://forum-sbk.de/wp-content/uploads/2024/10/andra-c-taylor-jr-nKFQvRPO7_o-unsplash-scaled.jpg
END:VEVENT
END:VCALENDAR