BEGIN:VCALENDAR
VERSION:2.0
PRODID:-//Forum SBK Bonn - ECPv6.15.20//NONSGML v1.0//EN
CALSCALE:GREGORIAN
METHOD:PUBLISH
X-ORIGINAL-URL:https://forum-sbk.de
X-WR-CALDESC:Veranstaltungen für Forum SBK Bonn
REFRESH-INTERVAL;VALUE=DURATION:PT1H
X-Robots-Tag:noindex
X-PUBLISHED-TTL:PT1H
BEGIN:VTIMEZONE
TZID:Europe/Berlin
BEGIN:DAYLIGHT
TZOFFSETFROM:+0100
TZOFFSETTO:+0200
TZNAME:CEST
DTSTART:20240331T010000
END:DAYLIGHT
BEGIN:STANDARD
TZOFFSETFROM:+0200
TZOFFSETTO:+0100
TZNAME:CET
DTSTART:20241027T010000
END:STANDARD
BEGIN:DAYLIGHT
TZOFFSETFROM:+0100
TZOFFSETTO:+0200
TZNAME:CEST
DTSTART:20250330T010000
END:DAYLIGHT
BEGIN:STANDARD
TZOFFSETFROM:+0200
TZOFFSETTO:+0100
TZNAME:CET
DTSTART:20251026T010000
END:STANDARD
BEGIN:DAYLIGHT
TZOFFSETFROM:+0100
TZOFFSETTO:+0200
TZNAME:CEST
DTSTART:20260329T010000
END:DAYLIGHT
BEGIN:STANDARD
TZOFFSETFROM:+0200
TZOFFSETTO:+0100
TZNAME:CET
DTSTART:20261025T010000
END:STANDARD
END:VTIMEZONE
BEGIN:VEVENT
DTSTART;TZID=Europe/Berlin:20250130T173000
DTEND;TZID=Europe/Berlin:20250130T193000
DTSTAMP:20260425T155325
CREATED:20241127T141033Z
LAST-MODIFIED:20241221T220423Z
UID:1327-1738258200-1738265400@forum-sbk.de
SUMMARY:Wie investieren türkeistämmige Menschen in ethnische Quartiere? – Dr. Mehmet Çelik hat acht deutsche Großstädte untersucht - Was bedeutet das für Bonn?
DESCRIPTION:Dr. Mehmet Çelik hat in seiner Dissertation untersucht\, wie türkeistämmige Migrant:innen durch Investitionen die Entwicklung ethnischer Quartiere in deutschen Großstädten beeinflussen. Die Ergebnisse zeigen\, dass die Migrant:innen zunehmend in ihre Viertel investieren\, Gebäude renovieren und den Stadtraum nachhaltig aufwerten. Diese Entwicklungen führen zu ökonomischen und sozialen Veränderungen. Die Veranstaltung bietet Einblicke in die Motivation der Migrant:innen\, sich aktiv für ihre Quartiere einzusetzen\, und beleuchtet die Herausforderungen und Chancen\, die sich daraus für die Stadtentwicklung ergeben. \nNach einer Vorstellung der Ergebnisse der Untersuchung freuen wir uns auf eine Diskussion mit Ihnen. Sind die Ergebnisse aus Aachen\, Köln\, Düsseldorf\, Mülheim\, Wiesbaden\, Hannover\, Mannheim und Nürnberg  auf Bonn übertragbar? Eher auf die Nordstadt oder eher auf Bad Godesberg? Was folgt daraus für die Bonner Politik? \nGrafik aus der Dissertation von Dr. Mehmet Çelik \nDr. Mehmet Çelik ist stellvertretender Leiter des Fachbereichs Stadtentwicklung und Stadtplanung der Stadt Aachen und promovierte an der RWTH Aachen. Seine Dissertation mit dem Titel „Investitions- und Aufwertungsprozesse in ethnischen Quartieren deutscher Großstädte“ wurde von Prof. Dr. Camella Pfaffenbach (Kulturgeographie) und Prof. Dr. Ingrid Breckner (Stadt- und Regionalsoziologie) betreut. \nBitte melden Sie sich für die kostenfreie Veranstaltung an. Die Anzahl der Teilnehmenden ist begrenzt. \nWenn Sie vorab schon eine Blick in eine Kurzfassung werfen wollen\, finden Sie diese – und auch einen link zur gesamten Dissertation – hier.
URL:https://forum-sbk.de/event/wie-investieren-tuerkeistaemmige-in-ethnische-quartiere/
LOCATION:Pavillon Baukultur\, Budapester Straße 7\, 53111 Bonn\, Budapester Str. 7\, Bonn\, Germany
CATEGORIES:Vortrag und Gespräch
ATTACH;FMTTYPE=image/jpeg:https://forum-sbk.de/wp-content/uploads/2024/11/selbstverwirklicher_16_9.jpg
END:VEVENT
END:VCALENDAR