BEGIN:VCALENDAR
VERSION:2.0
PRODID:-//Forum SBK Bonn - ECPv6.15.20//NONSGML v1.0//EN
CALSCALE:GREGORIAN
METHOD:PUBLISH
X-ORIGINAL-URL:https://forum-sbk.de
X-WR-CALDESC:Veranstaltungen für Forum SBK Bonn
REFRESH-INTERVAL;VALUE=DURATION:PT1H
X-Robots-Tag:noindex
X-PUBLISHED-TTL:PT1H
BEGIN:VTIMEZONE
TZID:Europe/Berlin
BEGIN:DAYLIGHT
TZOFFSETFROM:+0100
TZOFFSETTO:+0200
TZNAME:CEST
DTSTART:20240331T010000
END:DAYLIGHT
BEGIN:STANDARD
TZOFFSETFROM:+0200
TZOFFSETTO:+0100
TZNAME:CET
DTSTART:20241027T010000
END:STANDARD
BEGIN:DAYLIGHT
TZOFFSETFROM:+0100
TZOFFSETTO:+0200
TZNAME:CEST
DTSTART:20250330T010000
END:DAYLIGHT
BEGIN:STANDARD
TZOFFSETFROM:+0200
TZOFFSETTO:+0100
TZNAME:CET
DTSTART:20251026T010000
END:STANDARD
BEGIN:DAYLIGHT
TZOFFSETFROM:+0100
TZOFFSETTO:+0200
TZNAME:CEST
DTSTART:20260329T010000
END:DAYLIGHT
BEGIN:STANDARD
TZOFFSETFROM:+0200
TZOFFSETTO:+0100
TZNAME:CET
DTSTART:20261025T010000
END:STANDARD
END:VTIMEZONE
BEGIN:VEVENT
DTSTART;TZID=Europe/Berlin:20251007T180000
DTEND;TZID=Europe/Berlin:20251007T210000
DTSTAMP:20260425T143429
CREATED:20251006T191810Z
LAST-MODIFIED:20251006T193948Z
UID:1380-1759860000-1759870800@forum-sbk.de
SUMMARY:Veranstaltungsreihe „Wie heizen wir ab morgen?“
DESCRIPTION:  \nDie Bonner Energie Agentur (BEA)\, die Mitglied im Forum Stadt Bau Kultur Bonn e.V. ist\,  lädt gemeinsam mit der Bundesstadt Bonn von September bis November 2025 zu der kostenfreien Veranstaltungsreihe „Wie heizen wir ab morgen?“ ein. \nIn acht Bonner Stadtteilen informiert sie an acht Terminen über zukunftsfähige Heizsysteme\, Fördermöglichkeiten und die Ergebnisse des neuen Bonner Wärmeplans. Die Veranstaltung bietet jeweils zwei kurze Vorträge\, Beratung an verschiedenen Thementischen sowie an den Infoständen. \n„Viele Menschen fragen sich aktuell\, welche Heizungslösung für ihr Haus die richtige ist. Wir möchten dabei mit fachlichem Rat zur Seite stehen und aufzeigen\, dass auch kleine Schritte möglich sind und dass Wärmepumpen in viel mehr Häusern möglich sind als häufig gedacht\, auch ohne große Sanierung“\, erklärt Geschäftsführerin Celia Schütze. \nDie BEA erläutert bei den Terminen\, für welche Gebäude Wärmepumpen geeignet sind\, welche Sanierungsschritte den Umstieg erleichtern und wie Eigentümer*innen von attraktiven Zuschüssen profitieren können. Ergänzend stehen lokale Handwerksbetriebe\, die Stadtwerke Bonn und die Verbraucherzentrale NRW für den Austausch bereit. \nEine Anmeldung ist nicht erforderlich. Wir empfehlen die Teilnahme an der Veranstaltung im eigenen Stadtteil. \nAktuell finden noch folgende Termine statt – jeweils von 18 bis 21 Uhr: \nDi\, 07.10. Dottendorf Ortszentrum\nDi\, 28.10. Beuel Brotfabrik\nDo\, 30.10. Auerberg Ev. Gemeindeforum\nMi\, 12.11. Bad Godesberg Trinkpavillon\nMi\, 19.11. Venusberg/Ippendorf Haus der Natur\nMi\, 26.11. Lannesdorf/Mehlem Quartiersmanagement \nDie Pressemitteilung der Stadt Bonn mit allen Terminen finden Sie unter  https://www.bonn.de/pressemitteilungen/september/wie-heizen-wir-ab-morgen-veranstaltungsreihe-in-acht-stadtteilen.php. \nMehr zur Veranstaltungsreihe steht unter  https://www.bonn.de/waerme-reihe.
URL:https://forum-sbk.de/event/veranstaltungsreihe-wie-heizen-wir-ab-morgen/
LOCATION:Ortszentrum Dottendorf\, Dottendorfer Straße 41\, Bonn\, 53121
CATEGORIES:Vortrag und Gespräch
ATTACH;FMTTYPE=image/jpeg:https://forum-sbk.de/wp-content/uploads/2025/10/OB-23.19.4_INF-Waermewende-FINAL.jpg
END:VEVENT
END:VCALENDAR